BEGIN:VCALENDAR
VERSION:2.0
PRODID:-//nextReality.Hamburg e.V. - ECPv6.5.1.6//NONSGML v1.0//EN
CALSCALE:GREGORIAN
METHOD:PUBLISH
X-ORIGINAL-URL:https://nextreality.hamburg
X-WR-CALDESC:Veranstaltungen für nextReality.Hamburg e.V.
REFRESH-INTERVAL;VALUE=DURATION:PT1H
X-Robots-Tag:noindex
X-PUBLISHED-TTL:PT1H
BEGIN:VTIMEZONE
TZID:Europe/Berlin
BEGIN:DAYLIGHT
TZOFFSETFROM:+0100
TZOFFSETTO:+0200
TZNAME:CEST
DTSTART:20200329T010000
END:DAYLIGHT
BEGIN:STANDARD
TZOFFSETFROM:+0200
TZOFFSETTO:+0100
TZNAME:CET
DTSTART:20201025T010000
END:STANDARD
END:VTIMEZONE
BEGIN:VEVENT
DTSTART;TZID=Europe/Berlin:20200402T190000
DTEND;TZID=Europe/Berlin:20200402T220000
DTSTAMP:20260421T110414
CREATED:20200304T144618Z
LAST-MODIFIED:20200326T160930Z
UID:10000211-1585854000-1585864800@nextreality.hamburg
SUMMARY:XR and the Human Factor
DESCRIPTION:Bei diesem Meetup wollen wir uns mit der psychologischen Sichtweise von XR Anwendungen beschäftigen.\nWie wirken virtuelle Welten auf die menschliche Psyche? Was und wie erleben Nutzer? Wie können wir solche Erlebnisse gestalten? Und warum ist das überhaupt wichtig? \nMit Vorträgen von: \nVivien Engel\nExperience Design Forscherin und Beraterin www.psyxdes.de \nProf. Dr. Philipp Rauschnabel und Katrin Brunner\nProf. Dr. Philipp Rauschnabel ist seit 2018 Professor für Digitales Marketing und Medieninnovation an der Universität der Bundeswehr München (Fakultät für Betriebswirtschaft). Katrin Brunner ist dort wissenschaftliche Mitarbeiterin und promoviert im Bereich Augmented Reality. Die Forschungsarbeiten der Professur umfassen verhaltenswissenschaftliche und managementrelevante Fragestellungen aus dem Bereich XR. \nFabrizio Palmas\nCreative & Technical Director\, Strategic Management Consultant bei straightlabs GmbH & Co. KG \nWeiterhin freuen wir uns aufs Netzwerken mit der XR Community im schicken Ambiente der neuen Coworking- und Eventlocation Timespaces in Schwabing. https://www.timespaces.de. \nWie immer habt ihr Gelegenheit zum Austausch und Drinks mit aufregenden Leuten aus der immer weiter wachsenden XR Community.\nWir freuen uns auf euch!
URL:https://nextreality.hamburg/event/xr-and-the-human-factor/
LOCATION:Timespaces\, Leopoldstraße 204a\, München\, 80804\, Deutschland
CATEGORIES:Events Deutschlandweit,Talk
ATTACH;FMTTYPE=image/jpeg:https://nextreality.hamburg/wp-content/uploads/2020/03/2020-04-02_HumanFactor.jpeg
GEO:48.1748612;11.586098
X-APPLE-STRUCTURED-LOCATION;VALUE=URI;X-ADDRESS=Timespaces Leopoldstraße 204a München 80804 Deutschland;X-APPLE-RADIUS=500;X-TITLE=Leopoldstraße 204a:geo:11.586098,48.1748612
END:VEVENT
BEGIN:VEVENT
DTSTART;TZID=Europe/Berlin:20200402T190000
DTEND;TZID=Europe/Berlin:20200402T220000
DTSTAMP:20260421T110414
CREATED:20200303T232814Z
LAST-MODIFIED:20200303T232814Z
UID:10000203-1585854000-1585864800@nextreality.hamburg
SUMMARY:XR and the Human Factor
DESCRIPTION:Bei diesem Meetup wollen wir uns mit der psychologischen Sichtweise von XR Anwendungen beschäftigen.\nWie wirken virtuelle Welten auf die menschliche Psyche? Was und wie erleben Nutzer? Wie können wir solche Erlebnisse gestalten? Und warum ist das überhaupt wichtig? \nMit Vorträgen von: \nVivien Engel\nExperience Design Forscherin und Beraterin www.psyxdes.de \nProf. Dr. Philipp Rauschnabel und Katrin Brunner\nProf. Dr. Philipp Rauschnabel ist seit 2018 Professor für Digitales Marketing und Medieninnovation an der Universität der Bundeswehr München (Fakultät für Betriebswirtschaft). Katrin Brunner ist dort wissenschaftliche Mitarbeiterin und promoviert im Bereich Augmented Reality. Die Forschungsarbeiten der Professur umfassen verhaltenswissenschaftliche und managementrelevante Fragestellungen aus dem Bereich XR. \nFabrizio Palmas\nCreative & Technical Director\, Strategic Management Consultant bei straightlabs GmbH & Co. KG \nWeiterhin freuen wir uns aufs Netzwerken mit der XR Community im schicken Ambiente der neuen Coworking- und Eventlocation Timespaces in Schwabing. https://www.timespaces.de. \nWie immer habt ihr Gelegenheit zum Austausch und Drinks mit aufregenden Leuten aus der immer weiter wachsenden XR Community.\nWir freuen uns auf euch!
URL:https://nextreality.hamburg/event/xr-and-the-human-factor-2/
LOCATION:Timespaces\, Leopoldstraße 204a\, München\, 80804\, Deutschland
CATEGORIES:Events Deutschlandweit,Talk
ATTACH;FMTTYPE=image/jpeg:https://nextreality.hamburg/wp-content/uploads/2020/03/2020-04-02_HumanFactor-1.jpeg
GEO:48.1748612;11.586098
X-APPLE-STRUCTURED-LOCATION;VALUE=URI;X-ADDRESS=Timespaces Leopoldstraße 204a München 80804 Deutschland;X-APPLE-RADIUS=500;X-TITLE=Leopoldstraße 204a:geo:11.586098,48.1748612
END:VEVENT
BEGIN:VEVENT
DTSTART;TZID=Europe/Berlin:20200116T190000
DTEND;TZID=Europe/Berlin:20200116T210000
DTSTAMP:20260421T110414
CREATED:20191203T043017Z
LAST-MODIFIED:20191203T043017Z
UID:10000178-1579201200-1579208400@nextreality.hamburg
SUMMARY:VR / AR Hardware Hands-on
DESCRIPTION:XR Bavaria ist zurück im neuen Jahr und wir starten gleich voll durch.\nWir geben euch am 16.1.2020 die Gelegenheit VR und AR Hardware und 360° Kameras live zu erleben und zu testen. \nUnsere Gäste\nMit am Start sind die Hardware-Experten von Schenker und präsentieren die neuesten VR-Brillen und VR-Hardware. Mit dabei auch das Varjo VR-Headset\, das wohl schärfste Headset auf dem Markt. https://www.schenker-tech.de \nBjörn Schwertfeger von den AR-Experts gibt Einblicke\, worauf bei der Wahl von AR-Headsets im industriellen Bereich zu achten ist und bringt seine Hardware mit. https://www.ar-experts.de \nClarence Dadson von XR Bavaria gibt euch einen Einblick in die Welt der 360° Kameras\, mit einer Auswahl an 360° Actionsportskameras sowie professionellen 3D 360° Kameras. \n  \nWeiterhin freuen wir uns aufs Netzwerken mit der XR Community im schicken Ambiente der neuen Coworking- und Eventlocation Timespaces in Schwabing. https://www.timespaces.de. \nWie immer habt ihr Gelegenheit zum Austausch und Drinks mit aufregenden Leuten aus der immer weiter wachsenden XR Community.\nWir freuen uns auf euch!
URL:https://nextreality.hamburg/event/vr-ar-hardware-hands-on-2/
LOCATION:Timespaces\, Leopoldstraße 204a\, München\, 80804\, Deutschland
CATEGORIES:Events Deutschlandweit,Talk
ATTACH;FMTTYPE=image/jpeg:https://nextreality.hamburg/wp-content/uploads/2019/12/2020-01-16_XRBavaria-scaled.jpeg
ORGANIZER;CN="XR Bavaria":MAILTO:info@xrbavaria.de
GEO:48.1748612;11.586098
X-APPLE-STRUCTURED-LOCATION;VALUE=URI;X-ADDRESS=Timespaces Leopoldstraße 204a München 80804 Deutschland;X-APPLE-RADIUS=500;X-TITLE=Leopoldstraße 204a:geo:11.586098,48.1748612
END:VEVENT
BEGIN:VEVENT
DTSTART;TZID=Europe/Berlin:20200116T190000
DTEND;TZID=Europe/Berlin:20200116T210000
DTSTAMP:20260421T110414
CREATED:20191203T043017Z
LAST-MODIFIED:20200116T213234Z
UID:10000406-1579201200-1579208400@nextreality.hamburg
SUMMARY:VR / AR Hardware Hands-on
DESCRIPTION:XR Bavaria ist zurück im neuen Jahr und wir starten gleich voll durch.\nWir geben euch am 16.1.2020 die Gelegenheit VR und AR Hardware und 360° Kameras live zu erleben und zu testen. \nUnsere Gäste\nMit am Start sind die Hardware-Experten von Schenker und präsentieren die neuesten VR-Brillen und VR-Hardware. Mit dabei auch das Varjo VR-Headset\, das wohl schärfste Headset auf dem Markt. https://www.schenker-tech.de \nBjörn Schwertfeger von den AR-Experts gibt Einblicke\, worauf bei der Wahl von AR-Headsets im industriellen Bereich zu achten ist und bringt seine Hardware mit. https://www.ar-experts.de \nClarence Dadson von XR Bavaria gibt euch einen Einblick in die Welt der 360° Kameras\, mit einer Auswahl an 360° Actionsportskameras sowie professionellen 3D 360° Kameras. \n  \nWeiterhin freuen wir uns aufs Netzwerken mit der XR Community im schicken Ambiente der neuen Coworking- und Eventlocation Timespaces in Schwabing. https://www.timespaces.de. \nWie immer habt ihr Gelegenheit zum Austausch und Drinks mit aufregenden Leuten aus der immer weiter wachsenden XR Community.\nWir freuen uns auf euch!
URL:https://nextreality.hamburg/event/vr-ar-hardware-hands-on/
LOCATION:Timespaces\, Leopoldstraße 204a\, München\, 80804\, Deutschland
CATEGORIES:Events Deutschlandweit,Talk
ATTACH;FMTTYPE=image/jpeg:https://nextreality.hamburg/wp-content/uploads/2019/12/2020-01-16_XRBavaria-scaled.jpeg
ORGANIZER;CN="XR Bavaria":MAILTO:info@xrbavaria.de
GEO:48.1748612;11.586098
X-APPLE-STRUCTURED-LOCATION;VALUE=URI;X-ADDRESS=Timespaces Leopoldstraße 204a München 80804 Deutschland;X-APPLE-RADIUS=500;X-TITLE=Leopoldstraße 204a:geo:11.586098,48.1748612
END:VEVENT
END:VCALENDAR