BEGIN:VCALENDAR
VERSION:2.0
PRODID:-//nextReality.Hamburg e.V. - ECPv6.5.1.6//NONSGML v1.0//EN
CALSCALE:GREGORIAN
METHOD:PUBLISH
X-WR-CALNAME:nextReality.Hamburg e.V.
X-ORIGINAL-URL:https://nextreality.hamburg
X-WR-CALDESC:Veranstaltungen für nextReality.Hamburg e.V.
REFRESH-INTERVAL;VALUE=DURATION:PT1H
X-Robots-Tag:noindex
X-PUBLISHED-TTL:PT1H
BEGIN:VTIMEZONE
TZID:Europe/Berlin
BEGIN:DAYLIGHT
TZOFFSETFROM:+0100
TZOFFSETTO:+0200
TZNAME:CEST
DTSTART:20190331T010000
END:DAYLIGHT
BEGIN:STANDARD
TZOFFSETFROM:+0200
TZOFFSETTO:+0100
TZNAME:CET
DTSTART:20191027T010000
END:STANDARD
END:VTIMEZONE
BEGIN:VEVENT
DTSTART;TZID=Europe/Berlin:20191128T173000
DTEND;TZID=Europe/Berlin:20191128T200000
DTSTAMP:20260424T201858
CREATED:20191113T021047Z
LAST-MODIFIED:20191113T021047Z
UID:10000376-1574962200-1574971200@nextreality.hamburg
SUMMARY:SOIREE|HEC: XR-Projekte
DESCRIPTION:Die einfach Umsetzung von XR-Anwendungen verstehen und sich vernetzen – die SOIREE|HEC am 28. November \nSOIREE|HEC: XR-Projekte – Erweiterte Realitäten im Unternehmen einfach umsetzen\nVirtual (VR) und Augmented Reality (AR) sind IT-Trends\, die viele Nutzer im digitalen Alltag beeindrucken. Unternehmen suchen konkrete Einsatzszenarien\, schrecken aber häufig vor der scheinbar aufwendigen Umsetzung zurück. \nBei der SOIREE|HEC am 28. November geben Malte Wellmann\, HEC GmbH\, und Philine Oppenheimer\, INTERHOMES AG\, praktische Einblicke in den Entwicklungsprozess und wie dieser ganz einfach von der Idee zur Lösung verläuft. \nExtended Reality (XR)-Anwendungen wie AR und VR ermöglichen eine Erweiterung der Realität\, indem 3D-Erfahrungen mithilfe von Smartphone-Apps\, VR-Brillen oder anderen technischen Mitteln in die Wirklichkeit projiziert werden. Etwas (noch) nicht real Vorhandenes wird visualisiert und interaktiv erlebbar gemacht. Das digitale Produkt und die tatsächliche Umgebung des Nutzers scheinen miteinander zu verschmelzen. Beispielsweise können Konstruktionen oder Funktionsweisen simuliert werden\, wodurch Kunden die Entscheidung zum Kauf erleichtert wird. \nVereinfacht wird die Umsetzung von XR-Projekten durch den Einsatz agiler Arbeitsmethoden. Damit lassen sich im Projektverlauf zügig Erfahrungen in der Anwendung der neuen Technologien sammeln\, die laufend in den Entwicklungsprozess einfließen und das Endprodukt verbessern. Anhand eines der XR-Projekte der HEC für den Bauträger INTERHOMES wird bei der SOIREE|HEC das Vorgehen von der Idee über die Umsetzung bis zum fertigen Produkt verdeutlicht. XR-Projekte lassen sich auch im Mittelstand sowohl technisch als auch wirtschaftlich gut realisieren. \n\nÜber die SOIREE | HEC\nDigitale Themen und analoges Networking – das verspricht die SOIREE | HEC. Viermal im Jahr lädt die HEC GmbH in Bremen verschiedene Referenten und Gäste zum informativen und inspirierenden Austausch nach Feierabend ein. Veranstaltungsort ist das Restaurant Hafenbrise im Schuppen Eins\, Konsul-Smidt-Str. 22 (Eingang neben Sixt). \nWir laden Sie herzlich ein\, mit uns ins Gespräch zu kommen und sind gespannt auf Ihre Meinung. Diskutieren Sie mit\, tauschen Sie sich aus und netzwerken Sie!
URL:https://nextreality.hamburg/event/soireehec-xr-projekte-2/
LOCATION:Hafenbrise\, Konsul-Smidt-Straße 22\, Bremen\, 28217\, Deutschland
CATEGORIES:Events Deutschlandweit,Talk
ATTACH;FMTTYPE=image/png:https://nextreality.hamburg/wp-content/uploads/2019/11/2019-11-28_SoireeHEC.png
GEO:53.0902757;8.7744845
X-APPLE-STRUCTURED-LOCATION;VALUE=URI;X-ADDRESS=Hafenbrise Konsul-Smidt-Straße 22 Bremen 28217 Deutschland;X-APPLE-RADIUS=500;X-TITLE=Konsul-Smidt-Straße 22:geo:8.7744845,53.0902757
END:VEVENT
BEGIN:VEVENT
DTSTART;TZID=Europe/Berlin:20191128T173000
DTEND;TZID=Europe/Berlin:20191128T200000
DTSTAMP:20260424T201858
CREATED:20191113T021047Z
LAST-MODIFIED:20191128T034452Z
UID:10000375-1574962200-1574971200@nextreality.hamburg
SUMMARY:SOIREE|HEC: XR-Projekte
DESCRIPTION:Die einfach Umsetzung von XR-Anwendungen verstehen und sich vernetzen – die SOIREE|HEC am 28. November \nSOIREE|HEC: XR-Projekte – Erweiterte Realitäten im Unternehmen einfach umsetzen\nVirtual (VR) und Augmented Reality (AR) sind IT-Trends\, die viele Nutzer im digitalen Alltag beeindrucken. Unternehmen suchen konkrete Einsatzszenarien\, schrecken aber häufig vor der scheinbar aufwendigen Umsetzung zurück. \nBei der SOIREE|HEC am 28. November geben Malte Wellmann\, HEC GmbH\, und Philine Oppenheimer\, INTERHOMES AG\, praktische Einblicke in den Entwicklungsprozess und wie dieser ganz einfach von der Idee zur Lösung verläuft. \nExtended Reality (XR)-Anwendungen wie AR und VR ermöglichen eine Erweiterung der Realität\, indem 3D-Erfahrungen mithilfe von Smartphone-Apps\, VR-Brillen oder anderen technischen Mitteln in die Wirklichkeit projiziert werden. Etwas (noch) nicht real Vorhandenes wird visualisiert und interaktiv erlebbar gemacht. Das digitale Produkt und die tatsächliche Umgebung des Nutzers scheinen miteinander zu verschmelzen. Beispielsweise können Konstruktionen oder Funktionsweisen simuliert werden\, wodurch Kunden die Entscheidung zum Kauf erleichtert wird. \nVereinfacht wird die Umsetzung von XR-Projekten durch den Einsatz agiler Arbeitsmethoden. Damit lassen sich im Projektverlauf zügig Erfahrungen in der Anwendung der neuen Technologien sammeln\, die laufend in den Entwicklungsprozess einfließen und das Endprodukt verbessern. Anhand eines der XR-Projekte der HEC für den Bauträger INTERHOMES wird bei der SOIREE|HEC das Vorgehen von der Idee über die Umsetzung bis zum fertigen Produkt verdeutlicht. XR-Projekte lassen sich auch im Mittelstand sowohl technisch als auch wirtschaftlich gut realisieren. \n\nÜber die SOIREE | HEC\nDigitale Themen und analoges Networking – das verspricht die SOIREE | HEC. Viermal im Jahr lädt die HEC GmbH in Bremen verschiedene Referenten und Gäste zum informativen und inspirierenden Austausch nach Feierabend ein. Veranstaltungsort ist das Restaurant Hafenbrise im Schuppen Eins\, Konsul-Smidt-Str. 22 (Eingang neben Sixt). \nWir laden Sie herzlich ein\, mit uns ins Gespräch zu kommen und sind gespannt auf Ihre Meinung. Diskutieren Sie mit\, tauschen Sie sich aus und netzwerken Sie!
URL:https://nextreality.hamburg/event/soireehec-xr-projekte/
LOCATION:Hafenbrise\, Konsul-Smidt-Straße 22\, Bremen\, 28217\, Deutschland
CATEGORIES:Events Deutschlandweit,Talk
ATTACH;FMTTYPE=image/png:https://nextreality.hamburg/wp-content/uploads/2019/11/2019-11-28_SoireeHEC.png
GEO:53.0902757;8.7744845
X-APPLE-STRUCTURED-LOCATION;VALUE=URI;X-ADDRESS=Hafenbrise Konsul-Smidt-Straße 22 Bremen 28217 Deutschland;X-APPLE-RADIUS=500;X-TITLE=Konsul-Smidt-Straße 22:geo:8.7744845,53.0902757
END:VEVENT
END:VCALENDAR