BEGIN:VCALENDAR
VERSION:2.0
PRODID:-//nextReality.Hamburg e.V. - ECPv6.5.1.6//NONSGML v1.0//EN
CALSCALE:GREGORIAN
METHOD:PUBLISH
X-WR-CALNAME:nextReality.Hamburg e.V.
X-ORIGINAL-URL:https://nextreality.hamburg
X-WR-CALDESC:Veranstaltungen für nextReality.Hamburg e.V.
REFRESH-INTERVAL;VALUE=DURATION:PT1H
X-Robots-Tag:noindex
X-PUBLISHED-TTL:PT1H
BEGIN:VTIMEZONE
TZID:Europe/Berlin
BEGIN:DAYLIGHT
TZOFFSETFROM:+0100
TZOFFSETTO:+0200
TZNAME:CEST
DTSTART:20190331T010000
END:DAYLIGHT
BEGIN:STANDARD
TZOFFSETFROM:+0200
TZOFFSETTO:+0100
TZNAME:CET
DTSTART:20191027T010000
END:STANDARD
BEGIN:DAYLIGHT
TZOFFSETFROM:+0100
TZOFFSETTO:+0200
TZNAME:CEST
DTSTART:20200329T010000
END:DAYLIGHT
BEGIN:STANDARD
TZOFFSETFROM:+0200
TZOFFSETTO:+0100
TZNAME:CET
DTSTART:20201025T010000
END:STANDARD
END:VTIMEZONE
BEGIN:VEVENT
DTSTART;TZID=Europe/Berlin:20200625T100000
DTEND;TZID=Europe/Berlin:20200625T120000
DTSTAMP:20260425T201456
CREATED:20200609T024052Z
LAST-MODIFIED:20200609T024052Z
UID:10000481-1593079200-1593086400@nextreality.hamburg
SUMMARY:BMBF-Förderbekanntmachung: Interaktive Systeme in virtuellen und realen Räumen
DESCRIPTION:Webinar zur BMBF-Förderbekanntmachung „Interaktive Systeme in virtuellen und realen Räumen – Innovative Technologien für die digitale Gesellschaft“\nIm Rahmen des Forschungsprogramms zur Mensch-Technik-Interaktion (MTI) hat das BMBF die Bekanntmachung „Interaktive Systeme in virtuellen und realen Räumen – Innovative Technologien für die digitale Gesellschaft“ veröffentlicht. Zweck der Bekanntmachung ist es\, innovative Forschungs- und Entwicklungsvorhaben der Mensch-Technik-Interaktion zu fördern\, welche Technologien für eine gemischte Realität („Mixed Reality“ – MR)\, einschließlich virtueller (VR) und erweiterter Realität („Augmented Reality“ – AR) um physische Interaktionsmöglichkeiten ergänzen. Die Frist für Antragseinreichungen ist der 29. Juli 2020. \nIn diesem Webinar haben interessierte Einreichende die Gelegenheit\, sich über die inhaltliche Ausrichtung und Fördervoraussetzungen der Bekanntmachung zu informieren. Auf der Veranstaltung wird die Bekanntmachung vom Projektträger vorgestellt und es werden Informationen zur Skizzeneinreichung gegeben sowie die administrativen Anforderungen bei der Antragstellung erläutert. Anschließend stehen Mitarbeiterinnen und Mitarbeiter des Projektträgers VDI/VDE Innovation + Technik GmbH für Fragen zur Verfügung. \n\nDieses Webinar findet in Kooperation mit dem XR HUB Nürnberg statt. \nAGENDA\nDonnerstag\, 25. Juni 2020 \n10:00 Uhr         Begrüßung und Vorstellung der Bekanntmachung \n10:30 Uhr         Frage & Antwort-Session \n11:00 Uhr         Vorstellungsrunde \n11:30 Uhr         Ende der Veranstaltung \nANMELDUNG\nHier können Sie sich für das Webinar anmelden. \nNach der Anmeldung erhalten Sie eine Bestätigung per E-Mail mit Informationen zur Teilnahme. \nFür die Vorstellungsrunde: Möchten Sie Ihre Projektidee oder sich als Projektpartner mit Ihren Kompetenzen vorstellen? Bei Interesse für die Kurzvorstellung melden Sie sich bitte bis zum 23. Juni per Mail bei Laura.Stengert@vdivde-it.de und senden eine aussagekräftige Folie (Format: ppt oder pdf). \n\n\nAnleitung zur Nutzung von GoToWebinar (PDF) \nWEITERE INFORMATIONEN\n\nInformationen zur Fördermaßnahme: Interaktive Systeme in virtuellen und realen Räumen – Innovative Technologien für die digitale Gesellschaft
URL:https://nextreality.hamburg/event/webinar-zur-bmbf-foerderbekanntmachung-interaktive-systeme-in-virtuellen-und-realen-raeumen-innovative-technologien-fuer-die-digitale-gesellschaft/
LOCATION:Am Sandtorkai 27/28\, Hamburg\, Hamburg\, 20457\, Deutschland
CATEGORIES:Events Deutschlandweit,Talk
ATTACH;FMTTYPE=image/jpeg:https://nextreality.hamburg/wp-content/uploads/2020/06/2020-06-25_Foerderbekanntmachung-1-scaled.jpeg
END:VEVENT
BEGIN:VEVENT
DTSTART;TZID=Europe/Berlin:20200423T170000
DTEND;TZID=Europe/Berlin:20200423T183000
DTSTAMP:20260425T201456
CREATED:20200421T151120Z
LAST-MODIFIED:20200421T151120Z
UID:10000469-1587661200-1587666600@nextreality.hamburg
SUMMARY:Digital Characters für XR und Games – Online Seminar
DESCRIPTION:Workshop Digital Humans für Realtime Produktionen \nSeminar Einstieg in die Produktion von menschlichen Avataren für CGI\, VR und Videogames.\nWenn wir Geschichten mit Hilfe von 3D Animation erzählen wollen\, ist die Darstellung von Menschen noch immer eine der größten Herausforderungen. Die letzten Jahre brachten jedoch einiges an Innovationen im Bereich von Animations Software und Motioncapture und Tracking Hardware mit sich\, die es ermöglichen auch ohne Big Budgets digitale Menschen zu generieren und zu animieren. In diesem Online Seminar will ich meine Erfahrungen in diesem Bereich Digital Humans für Realtime und XR Produktionen mit euch teilen und euch einen einfachen Einstieg in komplexe Materie ermöglichen.\nDiese Veranstaltung ist als Veranstaltungsreihe geplant.\nWir werden uns am 23. in erster Linie mit dem Erzeugen eines animierbaren menschlichen 3D Models beschäftigen. \nCheers Clarence
URL:https://nextreality.hamburg/event/digital-characters-fuer-xr-und-games-online-seminar/
LOCATION:Am Sandtorkai 27/28\, Hamburg\, Hamburg\, 20457\, Deutschland
CATEGORIES:Events Deutschlandweit,Talk
ATTACH;FMTTYPE=image/jpeg:https://nextreality.hamburg/wp-content/uploads/2020/04/2020-04-23_Characters-1.jpeg
END:VEVENT
BEGIN:VEVENT
DTSTART;TZID=Europe/Berlin:20200422T150000
DTEND;TZID=Europe/Berlin:20200422T163000
DTSTAMP:20260425T201456
CREATED:20200415T021744Z
LAST-MODIFIED:20200415T021744Z
UID:10000466-1587567600-1587573000@nextreality.hamburg
SUMMARY:Der XR HUB Nürnberg präsentiert: AR/VR/MR – Die Zukunft ist heute!
DESCRIPTION:Dich interessieren Virtual\, Augmented & Mixed Reality? Du möchtest wissen\, was heute schon mit XR möglich ist & welche XR Unternehmen es in der Region Nürnberg gibt? Dann bist du hier genau richtig! \nZielgruppe:\nMenschen\, die den XR HUB Nürnberg & die Möglichkeiten von XR (VR/AR/MR) an Hand von Projektbeispielen kennenlernen möchten \nOrt:\nOnline Webinar in Zoom\nhttps://us04web.zoom.us/webinar/register/WN_slk5Kb77T–QdlWRWWFuag \nTermin:\nMittwoch\, 22.04.2020\, 15.00 – 16.30 Uhr \nAgenda:\nIn diesem kostenfreien Online-Webinar nimmt dich Benjamin Ulsamer\, Projektmanager des XR HUB Nürnberg\, auf eine Reise durch die Möglichkeiten der XR-Welt. Er gibt Antworten auf die Fragen: \nWas ist XR überhaupt & was sind die Unterschiede zwischen Augmented\, Virtual & Mixed Reality?\nWie ist der XR HUB Nürnberg entstanden & was sind dessen Ziele?\nWelche erfolgreich realisierten AR/VR/MR-Projekte gibt es bereits in den Bereichen Industrie/Automotive\, Gesundheit & Pflege/Inklusion\, Tourismus/Kultur\, Games/Animation\, Einzelhandel\, Education & Marketing?\nWelche XR-Unternehmen gibt es in der Metropolregion Nürnberg? &\nWie sieht die Zukunft im Bereich XR aus? \nSchnall dich an & lass dich inspirieren. Wir freuen uns auf deine Registrierung & Teilnahme! \nJetzt hier für das kostenfreie Online-Webinar registrieren:\nhttps://us04web.zoom.us/webinar/register/WN_slk5Kb77T–QdlWRWWFuag \n\nHINWEIS \nDer finale Teilnahme-Link zum Online-Webinar wird erst nach erfolgreicher Registrierung automatisch an die angegebene Mailadresse versendet! \nÜber den XR HUB Nürnberg:\nDer XR HUB Nürnberg ist das XR-Kontakt-Netzwerk der Metropolregion Nürnberg mit dem Ziel\, den Austausch\, die Sichtbarkeit und den Marktzugang der XR-Unternehmen zu unterstützen\, sowie die XR-Technologie für Unternehmen aus der Metropolregion Nürnberg zugänglich zu machen. \nHier findest du den XR HUB Nürnberg online:\nhttp://xrhub-nue.de/\nhttps://www.linkedin.com/company/xrhubnue/\nhttps://www.xing.com/companies/xrhubn%C3%BCrnberg\nhttp://www.twitter.com/xrhubnue\nhttps://www.facebook.com/xrhubnue/\nhttps://www.instagram.com/xrhubnue/\nhttps://www.meetup.com/de-DE/AWENiteNurnberg/\nhttps://www.meetup.com/de-DE/VR-AR-Nurnberg-EMN/\nhttps://www.meetup.com/de-DE/Virtual-Reality-Germany/
URL:https://nextreality.hamburg/event/der-xr-hub-nuernberg-praesentiert-ar-vr-mr-die-zukunft-ist-heute/
LOCATION:Am Sandtorkai 27/28\, Hamburg\, Hamburg\, 20457\, Deutschland
CATEGORIES:Events Deutschlandweit,Talk
ATTACH;FMTTYPE=image/jpeg:https://nextreality.hamburg/wp-content/uploads/2020/04/2020-04-22_XRWebinar-1-scaled.jpeg
END:VEVENT
BEGIN:VEVENT
DTSTART;TZID=Europe/Berlin:20191010T090000
DTEND;TZID=Europe/Berlin:20191010T170000
DTSTAMP:20260425T201456
CREATED:20190822T154148Z
LAST-MODIFIED:20190822T154148Z
UID:10000088-1570698000-1570726800@nextreality.hamburg
SUMMARY:Seminar: Virtual Reality (VR) und Co.
DESCRIPTION:VR erleben und Konzepte entwickeln\nAugmented Reality (AR)\, Virtual Reality (VR) und 360 Grad-Videos finden immer mehr Einzug in Unternehmen. Produkte entstehen kostengünstig in VR\, Trainingsszenarien finden realistischer als je zuvor statt\, und Recruiting-Videos in 360 Grad geben dem Bewerber das Gefühl\, schon Teil der Firma zu sein.   VR erweitert das virtuelle Sozialleben\, man kann sich zu einem virtuellen Ort teleportieren und sich dort mit weiteren Kollegen oder Freunden treffen. AR schlägt eine Brücke zwischen der Online- und Offline-Welt\, mithilfe von Smartphone und Tablet lassen sich beispielsweise virtuelle Wohnwelten in die reale Welt visualisieren. \nInhalte\nLernen Sie in unserem Seminar die vielfältigen Einsatzmöglichkeiten im Unternehmen und die Technologie dahinter kennen. Gemeinsam diskutieren wir\, wie AR/VR-Angebote einen echten Mehrwert in Ihrem Unternehmen bieten und professionell realisiert werden können. An mehreren praxisorientierten Stationen können Sie verschiedene Endgeräte und Hardware selbst ausprobieren. \n\nDefinition: Was sind Virtual Reality\, Augmented Reality\, 360 Grad-Videos\, und wie unterscheiden sie sich?\nÜberblick über die Technologien: Aktueller Stand und zukünftige Entwicklungen\nEinführung in Endgeräte und Hardware: Vom Smartphone bis zur Oculus Rift\, Microsoft HoloLens\, Gear VR\, HTC Vive und dem Google Cardboard\nExperience Area: Erleben Sie Virtual und Augmented Reality. Testen Sie diverse Mobilgeräte\, Datenbrillen und VR-Headsets\nEntwicklung eines eigenen Konzepts: Kennenlernen von Einsatzmöglichkeiten und Erfolgsfaktoren bei der Produktion von AR / VR / 360 Grad-Content\n\nLernziele\n\nSie kennen die Unterschiede und Einsatzmöglichkeiten von Virtual-\, und Augmented Reality und 360 Grad-Videos\nSie machen sich mit der aktuellen Hardware vertraut und lernen sie selbst kennen\nSie lernen aktuelle Einsatzszenarien für VR\, AR & 360 Grad im Unternehmen kennen\nSie erfahren\, wie Sie diese Technologien effizient für die Entwicklung und Umsetzung eigener (Lern-)Konzepte\, Produkte oder Services nutzen können\n\nTrainerin\nAline-Florence Buttkereit
URL:https://nextreality.hamburg/event/seminar-virtual-reality-vr-und-co-2/
LOCATION:Bildungswerk der Bayerischen Wirtschaft (bbw)\, Schwanthalerstraße 18\, München\, 80336\, Deutschland
CATEGORIES:Events Deutschlandweit,Hack,Talk
ATTACH;FMTTYPE=image/jpeg:https://nextreality.hamburg/wp-content/uploads/2019/08/2019-04-05_bbwVR.jpg
GEO:48.1375501;11.5616563
X-APPLE-STRUCTURED-LOCATION;VALUE=URI;X-ADDRESS=Bildungswerk der Bayerischen Wirtschaft (bbw) Schwanthalerstraße 18 München 80336 Deutschland;X-APPLE-RADIUS=500;X-TITLE=Schwanthalerstraße 18:geo:11.5616563,48.1375501
END:VEVENT
BEGIN:VEVENT
DTSTART;TZID=Europe/Berlin:20191010T090000
DTEND;TZID=Europe/Berlin:20191010T170000
DTSTAMP:20260425T201456
CREATED:20190822T154148Z
LAST-MODIFIED:20191010T213104Z
UID:10000253-1570698000-1570726800@nextreality.hamburg
SUMMARY:Seminar: Virtual Reality (VR) und Co.
DESCRIPTION:VR erleben und Konzepte entwickeln\nAugmented Reality (AR)\, Virtual Reality (VR) und 360 Grad-Videos finden immer mehr Einzug in Unternehmen. Produkte entstehen kostengünstig in VR\, Trainingsszenarien finden realistischer als je zuvor statt\, und Recruiting-Videos in 360 Grad geben dem Bewerber das Gefühl\, schon Teil der Firma zu sein.   VR erweitert das virtuelle Sozialleben\, man kann sich zu einem virtuellen Ort teleportieren und sich dort mit weiteren Kollegen oder Freunden treffen. AR schlägt eine Brücke zwischen der Online- und Offline-Welt\, mithilfe von Smartphone und Tablet lassen sich beispielsweise virtuelle Wohnwelten in die reale Welt visualisieren. \nInhalte\nLernen Sie in unserem Seminar die vielfältigen Einsatzmöglichkeiten im Unternehmen und die Technologie dahinter kennen. Gemeinsam diskutieren wir\, wie AR/VR-Angebote einen echten Mehrwert in Ihrem Unternehmen bieten und professionell realisiert werden können. An mehreren praxisorientierten Stationen können Sie verschiedene Endgeräte und Hardware selbst ausprobieren. \n\nDefinition: Was sind Virtual Reality\, Augmented Reality\, 360 Grad-Videos\, und wie unterscheiden sie sich?\nÜberblick über die Technologien: Aktueller Stand und zukünftige Entwicklungen\nEinführung in Endgeräte und Hardware: Vom Smartphone bis zur Oculus Rift\, Microsoft HoloLens\, Gear VR\, HTC Vive und dem Google Cardboard\nExperience Area: Erleben Sie Virtual und Augmented Reality. Testen Sie diverse Mobilgeräte\, Datenbrillen und VR-Headsets\nEntwicklung eines eigenen Konzepts: Kennenlernen von Einsatzmöglichkeiten und Erfolgsfaktoren bei der Produktion von AR / VR / 360 Grad-Content\n\nLernziele\n\nSie kennen die Unterschiede und Einsatzmöglichkeiten von Virtual-\, und Augmented Reality und 360 Grad-Videos\nSie machen sich mit der aktuellen Hardware vertraut und lernen sie selbst kennen\nSie lernen aktuelle Einsatzszenarien für VR\, AR & 360 Grad im Unternehmen kennen\nSie erfahren\, wie Sie diese Technologien effizient für die Entwicklung und Umsetzung eigener (Lern-)Konzepte\, Produkte oder Services nutzen können\n\nTrainerin\nAline-Florence Buttkereit
URL:https://nextreality.hamburg/event/seminar-virtual-reality-vr-und-co/
LOCATION:Bildungswerk der Bayerischen Wirtschaft (bbw)\, Schwanthalerstraße 18\, München\, 80336\, Deutschland
CATEGORIES:Events Deutschlandweit,Hack,Talk
ATTACH;FMTTYPE=image/jpeg:https://nextreality.hamburg/wp-content/uploads/2019/08/2019-04-05_bbwVR.jpg
GEO:48.1375501;11.5616563
X-APPLE-STRUCTURED-LOCATION;VALUE=URI;X-ADDRESS=Bildungswerk der Bayerischen Wirtschaft (bbw) Schwanthalerstraße 18 München 80336 Deutschland;X-APPLE-RADIUS=500;X-TITLE=Schwanthalerstraße 18:geo:11.5616563,48.1375501
END:VEVENT
END:VCALENDAR