BEGIN:VCALENDAR
VERSION:2.0
PRODID:-//nextReality.Hamburg e.V. - ECPv6.5.1.6//NONSGML v1.0//EN
CALSCALE:GREGORIAN
METHOD:PUBLISH
X-WR-CALNAME:nextReality.Hamburg e.V.
X-ORIGINAL-URL:https://nextreality.hamburg
X-WR-CALDESC:Veranstaltungen für nextReality.Hamburg e.V.
REFRESH-INTERVAL;VALUE=DURATION:PT1H
X-Robots-Tag:noindex
X-PUBLISHED-TTL:PT1H
BEGIN:VTIMEZONE
TZID:Europe/Berlin
BEGIN:DAYLIGHT
TZOFFSETFROM:+0100
TZOFFSETTO:+0200
TZNAME:CEST
DTSTART:20190331T010000
END:DAYLIGHT
BEGIN:STANDARD
TZOFFSETFROM:+0200
TZOFFSETTO:+0100
TZNAME:CET
DTSTART:20191027T010000
END:STANDARD
END:VTIMEZONE
BEGIN:VEVENT
DTSTART;TZID=Europe/Berlin:20190818T103000
DTEND;TZID=Europe/Berlin:20190819T200000
DTSTAMP:20260419T195257
CREATED:20190612T082632Z
LAST-MODIFIED:20190612T082632Z
UID:10000048-1566124200-1566244800@nextreality.hamburg
SUMMARY:devcom
DESCRIPTION:devcom is the official gamescom game developer event and Europe’s annual ‚must attend‘ conference taking place from 18-19 August\, paving the way for the world’s biggest videogames exhibition. \nIn cooperation with our international board of renowned game development experts and studio heads from indie to AAA\, devcom not only creates a diverse conference program that is tailored to the actual needs of the global games development community\, from beginner to top-tier veteran\, but also serves as the perfect platform to easily meet and connect with industry and media representatives from all over the world. \nJoin us for the exclusive devcom Networking Dinner on Saturday evening\, have a hot cup of coffee and tasty snacks on the showfloor\, check out numerous business and indie exhibitors showcasing their services and games\, witness the brandnew devcom Awards – Europe’s first ‘Persons of the Year Award’ – and attend our open-air devcom Sunset Party and devcom Developer Night. On top\, devcom offers you and your team turnkey ready HR booths to scout for new talents\, secluded rooms to organize your own individual press conference\, as well as an excellent matchmaking app to plan your meeting schedule. \nWe look forward to seeing you all at devcom 2019!
URL:https://nextreality.hamburg/event/devcom-2/
LOCATION:Congress-Centrum Ost Koelnmesse\, Deutz-Mülheimer Straße 51\, Köln\, 50679\, Deutschland
CATEGORIES:Events Deutschlandweit,Talk
ATTACH;FMTTYPE=image/jpeg:https://nextreality.hamburg/wp-content/uploads/2019/06/2019-08-18_devcom.jpg
GEO:50.943166;6.981009
X-APPLE-STRUCTURED-LOCATION;VALUE=URI;X-ADDRESS=Congress-Centrum Ost Koelnmesse Deutz-Mülheimer Straße 51 Köln 50679 Deutschland;X-APPLE-RADIUS=500;X-TITLE=Deutz-Mülheimer Straße 51:geo:6.981009,50.943166
END:VEVENT
BEGIN:VEVENT
DTSTART;TZID=Europe/Berlin:20190615T170000
DTEND;TZID=Europe/Berlin:20190615T210000
DTSTAMP:20260419T195257
CREATED:20190529T071428Z
LAST-MODIFIED:20190615T084324Z
UID:10000135-1560618000-1560632400@nextreality.hamburg
SUMMARY:CGNVR #22 – NextGen mobile VR celebration
DESCRIPTION:Let’s celebrate the next generation of mobile VR! \nBesides Oculus Quest we are arranging some further exclusive HMDs. \nWe’ll start Demos at 17:00h and talks/presentation at 19:00h. \nFeel free to apply for Demo-Space and Presentation-Slots until May 31st. \nMeetup will be hosted at World of VR HQ in Cologne Ehrenfeld! \nWe are planning to go out to Ehrenfeld afterwards.
URL:https://nextreality.hamburg/event/cgnvr-22-nextgen-mobile-vr-celebration/
LOCATION:World of VR\, Stolberger Str. 90D\, Köln\, 50933\, Deutschland
CATEGORIES:Events Deutschlandweit,Talk
ATTACH;FMTTYPE=image/jpeg:https://nextreality.hamburg/wp-content/uploads/2019/05/2019-06-18_CologneVRMeetup-scaled.jpg
GEO:50.9442679;6.9031142
X-APPLE-STRUCTURED-LOCATION;VALUE=URI;X-ADDRESS=World of VR Stolberger Str. 90D Köln 50933 Deutschland;X-APPLE-RADIUS=500;X-TITLE=Stolberger Str. 90D:geo:6.9031142,50.9442679
END:VEVENT
BEGIN:VEVENT
DTSTART;TZID=Europe/Berlin:20190615T170000
DTEND;TZID=Europe/Berlin:20190615T210000
DTSTAMP:20260419T195257
CREATED:20190529T071428Z
LAST-MODIFIED:20190529T071428Z
UID:10000136-1560618000-1560632400@nextreality.hamburg
SUMMARY:CGNVR #22 – NextGen mobile VR celebration
DESCRIPTION:Let’s celebrate the next generation of mobile VR! \nBesides Oculus Quest we are arranging some further exclusive HMDs. \nWe’ll start Demos at 17:00h and talks/presentation at 19:00h. \nFeel free to apply for Demo-Space and Presentation-Slots until May 31st. \nMeetup will be hosted at World of VR HQ in Cologne Ehrenfeld! \nWe are planning to go out to Ehrenfeld afterwards.
URL:https://nextreality.hamburg/event/cgnvr-22-nextgen-mobile-vr-celebration-2/
LOCATION:World of VR\, Stolberger Str. 90D\, Köln\, 50933\, Deutschland
CATEGORIES:Events Deutschlandweit,Talk
ATTACH;FMTTYPE=image/jpeg:https://nextreality.hamburg/wp-content/uploads/2019/05/2019-06-18_CologneVRMeetup-scaled.jpg
GEO:50.9442679;6.9031142
X-APPLE-STRUCTURED-LOCATION;VALUE=URI;X-ADDRESS=World of VR Stolberger Str. 90D Köln 50933 Deutschland;X-APPLE-RADIUS=500;X-TITLE=Stolberger Str. 90D:geo:6.9031142,50.9442679
END:VEVENT
END:VCALENDAR