BEGIN:VCALENDAR
VERSION:2.0
PRODID:-//nextReality.Hamburg e.V. - ECPv6.5.1.6//NONSGML v1.0//EN
CALSCALE:GREGORIAN
METHOD:PUBLISH
X-WR-CALNAME:nextReality.Hamburg e.V.
X-ORIGINAL-URL:https://nextreality.hamburg
X-WR-CALDESC:Veranstaltungen für nextReality.Hamburg e.V.
REFRESH-INTERVAL;VALUE=DURATION:PT1H
X-Robots-Tag:noindex
X-PUBLISHED-TTL:PT1H
BEGIN:VTIMEZONE
TZID:Europe/Berlin
BEGIN:DAYLIGHT
TZOFFSETFROM:+0100
TZOFFSETTO:+0200
TZNAME:CEST
DTSTART:20190331T010000
END:DAYLIGHT
BEGIN:STANDARD
TZOFFSETFROM:+0200
TZOFFSETTO:+0100
TZNAME:CET
DTSTART:20191027T010000
END:STANDARD
END:VTIMEZONE
BEGIN:VEVENT
DTSTART;TZID=Europe/Berlin:20190619T090000
DTEND;TZID=Europe/Berlin:20190619T110000
DTSTAMP:20260425T165608
CREATED:20190613T082601Z
LAST-MODIFIED:20190613T082601Z
UID:10000056-1560934800-1560942000@nextreality.hamburg
SUMMARY:Gesten Stimmen Kontakt
DESCRIPTION:Anmerkungen zur Gestaltung interaktiver Kunst \nEin Gastvortrag von Monika Fleischmann und Wolfgang Strauss \nIm Rahmen der Vorlesung „Kulturgeschichte im Designkontext“ begrüßt Prof. Dr. Stephan Schwingeler in diesem Semester Monika Fleischmann und Wolfgang Strauss. Beide sind Kunstschaffende von Weltformat. Fleischmann und Strauss sind zusammen ein deutsches Künstler- und Wissenschaftlerpaar\, das sich seit 1987 mit New Media und Digitalen Medien als Verbindung von Kunst und Technik unter dem Schwerpunkt Mixed Reality befasst. Mit ihren international ausgestellten interaktiven Inszenierungen gelten sie als Pioniere der Medienkunst. \nZwei Ehrungen\, die ihre künstlerische Karriere einrahmen\, sind:\n1992: Goldene Nica der Ars Electronica für die VR-Installation „Home of the Brain“\n2018: SIGGRAPH Lifetime Achievement Award in Digital Art für Monika Fleischmann \nDer öffentliche Vortrag findet am Mittwoch\, 19. Juni\, von 9:00 bis 11:00 Uhr im Hörsaal von Haus A am Campus Weinberg in der Renatastraße 11 statt.
URL:https://nextreality.hamburg/event/gesten-stimmen-kontakt-2/
LOCATION:HAWK Hildesheim\, Renatastraße 11\, Hildesheim\, 31134\, Deutschland
CATEGORIES:Events Deutschlandweit,Talk
ATTACH;FMTTYPE=image/jpeg:https://nextreality.hamburg/wp-content/uploads/2019/06/2019-06-19_GestenStimmenKontaktHAWK.jpg
GEO:52.144596;9.9551003
X-APPLE-STRUCTURED-LOCATION;VALUE=URI;X-ADDRESS=HAWK Hildesheim Renatastraße 11 Hildesheim 31134 Deutschland;X-APPLE-RADIUS=500;X-TITLE=Renatastraße 11:geo:9.9551003,52.144596
END:VEVENT
BEGIN:VEVENT
DTSTART;TZID=Europe/Berlin:20190619T090000
DTEND;TZID=Europe/Berlin:20190619T110000
DTSTAMP:20260425T165608
CREATED:20190613T082601Z
LAST-MODIFIED:20190619T085722Z
UID:10000054-1560934800-1560942000@nextreality.hamburg
SUMMARY:Gesten Stimmen Kontakt
DESCRIPTION:Anmerkungen zur Gestaltung interaktiver Kunst \nEin Gastvortrag von Monika Fleischmann und Wolfgang Strauss \nIm Rahmen der Vorlesung „Kulturgeschichte im Designkontext“ begrüßt Prof. Dr. Stephan Schwingeler in diesem Semester Monika Fleischmann und Wolfgang Strauss. Beide sind Kunstschaffende von Weltformat. Fleischmann und Strauss sind zusammen ein deutsches Künstler- und Wissenschaftlerpaar\, das sich seit 1987 mit New Media und Digitalen Medien als Verbindung von Kunst und Technik unter dem Schwerpunkt Mixed Reality befasst. Mit ihren international ausgestellten interaktiven Inszenierungen gelten sie als Pioniere der Medienkunst. \nZwei Ehrungen\, die ihre künstlerische Karriere einrahmen\, sind:\n1992: Goldene Nica der Ars Electronica für die VR-Installation „Home of the Brain“\n2018: SIGGRAPH Lifetime Achievement Award in Digital Art für Monika Fleischmann \nDer öffentliche Vortrag findet am Mittwoch\, 19. Juni\, von 9:00 bis 11:00 Uhr im Hörsaal von Haus A am Campus Weinberg in der Renatastraße 11 statt.
URL:https://nextreality.hamburg/event/gesten-stimmen-kontakt/
LOCATION:HAWK Hildesheim\, Renatastraße 11\, Hildesheim\, 31134\, Deutschland
CATEGORIES:Events Deutschlandweit,Talk
ATTACH;FMTTYPE=image/jpeg:https://nextreality.hamburg/wp-content/uploads/2019/06/2019-06-19_GestenStimmenKontaktHAWK.jpg
GEO:52.144596;9.9551003
X-APPLE-STRUCTURED-LOCATION;VALUE=URI;X-ADDRESS=HAWK Hildesheim Renatastraße 11 Hildesheim 31134 Deutschland;X-APPLE-RADIUS=500;X-TITLE=Renatastraße 11:geo:9.9551003,52.144596
END:VEVENT
END:VCALENDAR