BEGIN:VCALENDAR
VERSION:2.0
PRODID:-//nextReality.Hamburg e.V. - ECPv6.5.1.6//NONSGML v1.0//EN
CALSCALE:GREGORIAN
METHOD:PUBLISH
X-WR-CALNAME:nextReality.Hamburg e.V.
X-ORIGINAL-URL:https://nextreality.hamburg
X-WR-CALDESC:Veranstaltungen für nextReality.Hamburg e.V.
REFRESH-INTERVAL;VALUE=DURATION:PT1H
X-Robots-Tag:noindex
X-PUBLISHED-TTL:PT1H
BEGIN:VTIMEZONE
TZID:Europe/Berlin
BEGIN:DAYLIGHT
TZOFFSETFROM:+0100
TZOFFSETTO:+0200
TZNAME:CEST
DTSTART:20240331T010000
END:DAYLIGHT
BEGIN:STANDARD
TZOFFSETFROM:+0200
TZOFFSETTO:+0100
TZNAME:CET
DTSTART:20241027T010000
END:STANDARD
END:VTIMEZONE
BEGIN:VEVENT
DTSTART;TZID=Europe/Berlin:20240131T173000
DTEND;TZID=Europe/Berlin:20240131T210000
DTSTAMP:20260426T051036
CREATED:20240104T121346Z
LAST-MODIFIED:20240104T121510Z
UID:10000709-1706722200-1706734800@nextreality.hamburg
SUMMARY:nextReality.Community Kick-Off 2024
DESCRIPTION:Community Kick-Off 2024: Happy New Year! \nWillkommen im Jahr 2024! 🎉 \nWir haben viel vor\, also starten wir direkt am 31. Januar mit unserem nextReality.Community Kick-Off 2024!  \nGemeinsam wollen wir nicht nur einen Blick auf unsere Pläne für dieses Jahr werfen\, sondern auch Ideen\, Anregungen und Unterstützung aus der Community sammeln. Eure Meinung ist uns wichtig! 🚀 \nIn 2023 haben wir spannende Events veranstaltet und sind tolle neue Kooperationen und Partnerschaften eingegangen. Ein herzliches Dankeschön an alle Partner*innen und Unterstützer*innen\, die dieses Jahr so besonders gemacht haben. Wir freuen uns auf 2024 mit neuen Möglichkeiten und Begegnungen. \nIhr seid herzlich eingeladen:\n📌 31. Januar\, 17:30 Uhr\n📌 SPACE\, Am Sandtorkai 27 \nWenn ihr selbst ein Projekt präsentieren möchtet\, meldet euch einfach per PN oder schickt eine E-Mail an info@nextReality.Hamburg. \nLasst uns gemeinsam das Jahr 2024 einläuten\, wir freuen uns auf euch!\n \nFür eine optimale Organisation freuen wir uns über eure Anmeldung! Ganz unkompliziert über Meetup\, Eventbrite oder einfach per Mail. 🤓
URL:https://nextreality.hamburg/event/nextreality-community-kick-off-2024/
LOCATION:SPACE\, Am Sandtorkai 27\, Hamburg\, Hamburg\, 20457\, Deutschland
CATEGORIES:Meetup: nextReality trifft ...,nextReality.Hamburg
ATTACH;FMTTYPE=image/png:https://nextreality.hamburg/wp-content/uploads/2024/01/Kick-Off-2024_Meetup.png
GEO:53.5434205;9.99206
X-APPLE-STRUCTURED-LOCATION;VALUE=URI;X-ADDRESS=SPACE Am Sandtorkai 27 Hamburg Hamburg 20457 Deutschland;X-APPLE-RADIUS=500;X-TITLE=Am Sandtorkai 27:geo:9.99206,53.5434205
END:VEVENT
END:VCALENDAR