BEGIN:VCALENDAR
VERSION:2.0
PRODID:-//nextReality.Hamburg e.V. - ECPv6.5.1.6//NONSGML v1.0//EN
CALSCALE:GREGORIAN
METHOD:PUBLISH
X-ORIGINAL-URL:https://nextreality.hamburg
X-WR-CALDESC:Veranstaltungen für nextReality.Hamburg e.V.
REFRESH-INTERVAL;VALUE=DURATION:PT1H
X-Robots-Tag:noindex
X-PUBLISHED-TTL:PT1H
BEGIN:VTIMEZONE
TZID:Europe/Berlin
BEGIN:DAYLIGHT
TZOFFSETFROM:+0100
TZOFFSETTO:+0200
TZNAME:CEST
DTSTART:20230326T010000
END:DAYLIGHT
BEGIN:STANDARD
TZOFFSETFROM:+0200
TZOFFSETTO:+0100
TZNAME:CET
DTSTART:20231029T010000
END:STANDARD
END:VTIMEZONE
BEGIN:VEVENT
DTSTART;TZID=Europe/Berlin:20230906T180000
DTEND;TZID=Europe/Berlin:20230906T210000
DTSTAMP:20260419T162348
CREATED:20230811T135844Z
LAST-MODIFIED:20230906T122624Z
UID:10000698-1694023200-1694034000@nextreality.hamburg
SUMMARY:nextReality trifft Digital Twin
DESCRIPTION:Aufgeschoben ist nicht aufgehoben! Im Rahmen des Homecoming HomePORT Events im Juni hatten wir zusammen mit homePORT ein Panel zum Thema Digital Twin geplant. Doch für all diejenigen\, die nicht vor Ort sein konnten\, es ist buchstäblich ins Wasser gefallen. \nNun trotzen wir dem Hamburger Wetter und holen das Event am 6.09. um 18 Uhr Indoor im homePORT Hamburg nach.\nSeid also dabei\, wenn wir gemeinsam mit Akteur:innen und Experten:innen aus dem Umfeld über den Einsatz von XR Technologie bei der Planung\, Wartung und Visualisierung sprechen. \nVon digitalen Zwillingen bis hin zum spannenden Einsatz von Augmented Reality in der Schiffsführung und virtuellen Werksrundgängen – die Speaker:innen haben viele aufregende Themen für euch vorbereitet. \nMeldet euch hier direkt an! Wir freuen uns auf euch!
URL:https://nextreality.hamburg/event/nextreality-trifft-digital-twin/
LOCATION:homePORT Hamburg\, Am Elbtunnel 6\, Hamburg\, Deutschland
CATEGORIES:Events Deutschlandweit,nextReality.Hamburg,Talk
ATTACH;FMTTYPE=image/webp:https://nextreality.hamburg/wp-content/uploads/2023/08/2023-09-06_nextRealitytrifftDigitalTwin-RdoScq.tmp_.webp
GEO:53.5415523;9.9662024
X-APPLE-STRUCTURED-LOCATION;VALUE=URI;X-ADDRESS=homePORT Hamburg Am Elbtunnel 6 Hamburg Deutschland;X-APPLE-RADIUS=500;X-TITLE=Am Elbtunnel 6:geo:9.9662024,53.5415523
END:VEVENT
END:VCALENDAR